BEGIN:VCALENDAR
VERSION:2.0
PRODID:-//eventon.com NONSGML v1.0//EN
CALSCALE:GREGORIAN
METHOD:PUBLISH
BEGIN:VEVENT
UID:69e78c10ad8ed
DTSTAMP:20260421T143912Z
DTSTART:20190528
DTEND:20190529
LOCATION:Madrid y a distancia Madrid y distancia
SUMMARY:Diploma en mentor coaching y supervisión - Madrid y a distancia
DESCRIPTION:El itinerario certifica 45 horas de formación continua sobre c
 oaching\,  aprobado por el ICF (International Coach Federation) como CCE* d
 e core competencies y prepara para desempeñar de manera eficaz la activida
 d de mentor coach y supervisor. El programa de formación y certificación 
 para conseguir el diploma de mentor coach y[..]\nhttps://menslab.com/es/eve
 nti/diploma-en-mentor-coaching-y-supervision-madrid-2019/
URL:https://menslab.com/es/eventi/diploma-en-mentor-coaching-y-supervision-madrid-2019/
END:VEVENT
END:VCALENDAR