BEGIN:VCALENDAR
VERSION:2.0
PRODID:-//eventon.com NONSGML v1.0//EN
CALSCALE:GREGORIAN
METHOD:PUBLISH
BEGIN:VEVENT
UID:69ea2385543d2
DTSTAMP:20260423T134957Z
DTSTART:20260619T073000Z
DTEND:20260619T215900Z
LOCATION:Videoconferenze interattive
SUMMARY:Linguaggi di precisione per coach professionisti - A distanza - Giugno - Luglio 2026
DESCRIPTION:Linguaggi di precisione per coach professionisti Utilizzare la 
 precisione linguistica per promuovere la consapevolezza Il percorso linguag
 gi di precisione per coach professionisti è rivolto ai coach che posseggon
 o una solida formazione sulle competenze fondamentali di coaching e voglion
 o potenziare la loro efficacia apprendendo ad utilizzare gli strumenti di p
 recisione linguistica[..]\nhttps://menslab.com/eventi/linguaggi-di-precisio
 ne-coach-professionisti/
URL:https://menslab.com/eventi/linguaggi-di-precisione-coach-professionisti/
END:VEVENT
END:VCALENDAR